BEGIN:VCALENDAR
VERSION:2.0
PRODID:-//All Souls Unitarian Universalist Church - ECPv6.15.20//NONSGML v1.0//EN
CALSCALE:GREGORIAN
METHOD:PUBLISH
X-ORIGINAL-URL:https://www.allsoulsuuohio.org
X-WR-CALDESC:Events for All Souls Unitarian Universalist Church
REFRESH-INTERVAL;VALUE=DURATION:PT1H
X-Robots-Tag:noindex
X-PUBLISHED-TTL:PT1H
BEGIN:VTIMEZONE
TZID:America/New_York
BEGIN:DAYLIGHT
TZOFFSETFROM:-0500
TZOFFSETTO:-0400
TZNAME:EDT
DTSTART:20250309T070000
END:DAYLIGHT
BEGIN:STANDARD
TZOFFSETFROM:-0400
TZOFFSETTO:-0500
TZNAME:EST
DTSTART:20251102T060000
END:STANDARD
BEGIN:DAYLIGHT
TZOFFSETFROM:-0500
TZOFFSETTO:-0400
TZNAME:EDT
DTSTART:20260308T070000
END:DAYLIGHT
BEGIN:STANDARD
TZOFFSETFROM:-0400
TZOFFSETTO:-0500
TZNAME:EST
DTSTART:20261101T060000
END:STANDARD
BEGIN:DAYLIGHT
TZOFFSETFROM:-0500
TZOFFSETTO:-0400
TZNAME:EDT
DTSTART:20270314T070000
END:DAYLIGHT
BEGIN:STANDARD
TZOFFSETFROM:-0400
TZOFFSETTO:-0500
TZNAME:EST
DTSTART:20271107T060000
END:STANDARD
END:VTIMEZONE
BEGIN:VEVENT
DTSTART;TZID=America/New_York:20260726T103000
DTEND;TZID=America/New_York:20260726T120000
DTSTAMP:20260421T165058
CREATED:20260119T143417Z
LAST-MODIFIED:20260119T143417Z
UID:33408-1785061800-1785067200@www.allsoulsuuohio.org
SUMMARY:Brian Moore
DESCRIPTION:Sunday Service — 10:30 a.m. \nLeader — Jacqueline Moore \nSpeaker — Brian Moore \nTitle — \nTopic — \nBio — Brian serves as Chair of the Pulpit and Worship Committee at All Souls. He and his wife\, Jacqueline\, are celebrating 32 years of marriage and embracing life in their 60s. Their home is shared with two cats\, two dogs\, and a vibrant aquarium and pond boasting more than 35 fish. Proud parents of two grown children and grandparents to three grandchildren\, Brian and Jacqueline find deep joy in family and music\, performing together in the trio Tao Bridge. \nFor four decades\, they have been the dedicated proprietors of Mid-Ohio Supply Co.\, embodying commitment and entrepreneurial spirit. Outside of work\, Brian’s passions include music\, gardening\, yard work\, and culinary adventures. He is also the curator of Sacred Stones Mystical Farm. \nSince joining All Souls in 2005\, Brian has found fulfillment in his Unitarian Universalist faith and cherishes the opportunity to serve the church community. \nJoin us downstairs after service for coffee and conversation. \nMasks are optional in the building\, and we fully support individuals’ choices regarding their use.
URL:https://www.allsoulsuuohio.org/event/brian-moore-3/
LOCATION:All Souls UU Church\, 25 Church St.\, Bellville\, Ohio\, 44813
END:VEVENT
BEGIN:VEVENT
DTSTART;TZID=America/New_York:20260726T120000
DTEND;TZID=America/New_York:20260726T140000
DTSTAMP:20260421T165058
CREATED:20260102T170445Z
LAST-MODIFIED:20260102T170445Z
UID:33019-1785067200-1785074400@www.allsoulsuuohio.org
SUMMARY:Potluck
DESCRIPTION:🌟 Community Potluck 🌟 \n📅 Sunday\, July 26th⏰ After the Service📍 Fellowship Hall – All Souls UU Church \nJoin us for a delicious and heartwarming potluck meal! This is a wonderful opportunity to share your favorite dishes\, enjoy great company\, and connect with our All Souls community. 🥗🍞💛 \nBring your appetite\, your favorite dish\, and your joyful spirit — we can’t wait to see you there! \nLet’s celebrate fellowship together. All are welcome!
URL:https://www.allsoulsuuohio.org/event/potluck-53/
LOCATION:All Souls Fellowship Hall\, 25 Church St\, Bellville\, OH\, 44813\, United States
END:VEVENT
BEGIN:VEVENT
DTSTART;TZID=America/New_York:20260729T100000
DTEND;TZID=America/New_York:20260729T113000
DTSTAMP:20260421T165058
CREATED:20260102T173156Z
LAST-MODIFIED:20260102T173156Z
UID:33064-1785319200-1785324600@www.allsoulsuuohio.org
SUMMARY:Questions For Your Answers
DESCRIPTION:☕ Religious Exploration – Questions For Your Answers☕ \n📅 Wednesday\, July 29th⏰ 10:00 AM📍 Bob Evans — Hanley Road\, Mansfield \nCome and be part of our monthly gathering as we share conversation\, connection\, and thoughtful discussion. This is a welcoming space to talk about life\, faith\, and any topics close to your heart. \nAll are welcome — we’d love to see you there.
URL:https://www.allsoulsuuohio.org/event/questions-for-your-answers-75/
LOCATION:Bob Evans @ Hanley Rd.\, 30 W. Hanley Rd.\, Mansfield\, OH\, 44903\, United States
END:VEVENT
BEGIN:VEVENT
DTSTART;TZID=America/New_York:20260805T183000
DTEND;TZID=America/New_York:20260805T200000
DTSTAMP:20260421T165058
CREATED:20260102T175605Z
LAST-MODIFIED:20260102T180621Z
UID:33103-1785954600-1785960000@www.allsoulsuuohio.org
SUMMARY:A Course In Miracles
DESCRIPTION:🌟 A Course in Miracles 🌟 \n📅Wednesday\, August 5th⏰ 6:30 PM📍 Fellowship Hall – All Souls UU Church Basement \nDiscover the transformative teachings of A Course in Miracles in our bi-monthly gathering. Together we explore spiritual growth\, healing\, and inner peace in a welcoming and supportive space. ✨ \nNo experience needed — just an open heart. All are welcome.
URL:https://www.allsoulsuuohio.org/event/a-course-in-miracles-48/
LOCATION:All Souls Fellowship Hall\, 25 Church St\, Bellville\, OH\, 44813\, United States
END:VEVENT
BEGIN:VEVENT
DTSTART;TZID=America/New_York:20260806T190000
DTEND;TZID=America/New_York:20260806T210000
DTSTAMP:20260421T165058
CREATED:20260102T182255Z
LAST-MODIFIED:20260102T182255Z
UID:33156-1786042800-1786050000@www.allsoulsuuohio.org
SUMMARY:Wine with Friends
DESCRIPTION:🍷 Wine with Friends 🍷 \n📅 Thursday\, August 6th⏰ 7:00 PM📍 Fellowship Hall – All Souls UU Church \nGather with fellow church members — and bring a friend — for an evening of good wine\, meaningful conversation\, and warm community. \nPlease contribute by bringing a bottle of wine to share or a favorite side dish. A suggested donation of $5 is appreciated. \nFor additional details\, feel free to reach out to Carla Miller.
URL:https://www.allsoulsuuohio.org/event/wine-with-friends-45/
LOCATION:All Souls Fellowship Hall\, 25 Church St\, Bellville\, OH\, 44813\, United States
END:VEVENT
BEGIN:VEVENT
DTSTART;TZID=America/New_York:20260819T183000
DTEND;TZID=America/New_York:20260819T200000
DTSTAMP:20260421T165058
CREATED:20260102T175729Z
LAST-MODIFIED:20260102T175729Z
UID:33105-1787164200-1787169600@www.allsoulsuuohio.org
SUMMARY:A Course In Miracles
DESCRIPTION:🌟 A Course in Miracles 🌟 \n📅Wednesday\, August 19th⏰ 6:30 PM📍 Church Basement \nDiscover the transformative teachings of A Course in Miracles in our bi-monthly gathering. Together we explore spiritual growth\, healing\, and inner peace in a welcoming and supportive space. ✨ \nNo experience needed — just an open heart. All are welcome.
URL:https://www.allsoulsuuohio.org/event/a-course-in-miracles-49/
LOCATION:All Souls Fellowship Hall\, 25 Church St\, Bellville\, OH\, 44813\, United States
END:VEVENT
BEGIN:VEVENT
DTSTART;TZID=America/New_York:20260823T130000
DTEND;TZID=America/New_York:20260823T143000
DTSTAMP:20260421T165058
CREATED:20260119T162803Z
LAST-MODIFIED:20260119T162803Z
UID:33435-1787490000-1787495400@www.allsoulsuuohio.org
SUMMARY:Community Conversations – Class 3: The Story of All Souls - This Place\, These People
DESCRIPTION:Community Conversations \nJoin us for conversation\, reflection\, and connection as we explore Unitarian Universalism and life’s big questions together. These gatherings are informal\, interactive\, and open to all—whether you are new to All Souls or have been part of the community for years. \nCommunity Conversations are not required for membership but are offered in rhythm with our seasonal New Member inductions as a helpful way to learn more about our church and one another. \nCome as you are—curiosity is the only requirement. \nLocation: All Souls UU Church \nFeel free to attend one session or the full series—each conversation stands on its own.
URL:https://www.allsoulsuuohio.org/event/community-conversations-class-3-the-story-of-all-souls-this-place-these-people/
LOCATION:All Souls UU Church\, 25 Church St.\, Bellville\, Ohio\, 44813
END:VEVENT
BEGIN:VEVENT
DTSTART;TZID=America/New_York:20260825T180000
DTEND;TZID=America/New_York:20260825T193000
DTSTAMP:20260421T165058
CREATED:20260119T162838Z
LAST-MODIFIED:20260119T162838Z
UID:33437-1787680800-1787686200@www.allsoulsuuohio.org
SUMMARY:Community Conversations – Class 3: The Story of All Souls - This Place\, These People
DESCRIPTION:Community Conversations \nJoin us for conversation\, reflection\, and connection as we explore Unitarian Universalism and life’s big questions together. These gatherings are informal\, interactive\, and open to all—whether you are new to All Souls or have been part of the community for years. \nCommunity Conversations are not required for membership but are offered in rhythm with our seasonal New Member inductions as a helpful way to learn more about our church and one another. \nCome as you are—curiosity is the only requirement. \nLocation: All Souls UU Church \nFeel free to attend one session or the full series—each conversation stands on its own.
URL:https://www.allsoulsuuohio.org/event/community-conversations-class-3-the-story-of-all-souls-this-place-these-people-2/
LOCATION:All Souls UU Church\, 25 Church St.\, Bellville\, Ohio\, 44813
END:VEVENT
BEGIN:VEVENT
DTSTART;TZID=America/New_York:20260826T100000
DTEND;TZID=America/New_York:20260826T113000
DTSTAMP:20260421T165058
CREATED:20260102T173234Z
LAST-MODIFIED:20260102T173234Z
UID:33066-1787738400-1787743800@www.allsoulsuuohio.org
SUMMARY:Questions For Your Answers
DESCRIPTION:☕ Religious Exploration – Questions For Your Answers☕ \n📅 Wednesday\, August 26th⏰ 10:00 AM📍 Bob Evans — Hanley Road\, Mansfield \nCome and be part of our monthly gathering as we share conversation\, connection\, and thoughtful discussion. This is a welcoming space to talk about life\, faith\, and any topics close to your heart. \nAll are welcome — we’d love to see you there.
URL:https://www.allsoulsuuohio.org/event/questions-for-your-answers-76/
LOCATION:Bob Evans @ Hanley Rd.\, 30 W. Hanley Rd.\, Mansfield\, OH\, 44903\, United States
END:VEVENT
BEGIN:VEVENT
DTSTART;TZID=America/New_York:20260830T120000
DTEND;TZID=America/New_York:20260830T140000
DTSTAMP:20260421T165058
CREATED:20260102T170653Z
LAST-MODIFIED:20260102T170653Z
UID:33021-1788091200-1788098400@www.allsoulsuuohio.org
SUMMARY:Potluck
DESCRIPTION:🌟 Community Potluck 🌟 \n📅 Sunday\, August 30th⏰ After the Service📍 Sacred Stones Mystical Farm – 3072 St Rt 430 Mansfield \nJoin us for a delicious and heartwarming potluck meal! This is a wonderful opportunity to share your favorite dishes\, enjoy great company\, and connect with our All Souls community. 🥗🍞💛 \nBring your appetite\, your favorite dish\, and your joyful spirit — we can’t wait to see you there! \nLet’s celebrate fellowship together. All are welcome!
URL:https://www.allsoulsuuohio.org/event/potluck-54/
LOCATION:Sacred Stones Mystical Farm\, 3072 State Route 430\, Mansfield\, OH\, 44903\, United States
END:VEVENT
BEGIN:VEVENT
DTSTART;TZID=America/New_York:20260902T183000
DTEND;TZID=America/New_York:20260902T200000
DTSTAMP:20260421T165058
CREATED:20260102T175812Z
LAST-MODIFIED:20260102T180015Z
UID:33107-1788373800-1788379200@www.allsoulsuuohio.org
SUMMARY:A Course In Miracles
DESCRIPTION:🌟 A Course in Miracles 🌟 \n📅Wednesday\, September 2nd⏰ 6:30 PM📍 Fellowship Hall – All Souls UU Church Basement \nDiscover the transformative teachings of A Course in Miracles in our bi-monthly gathering. Together we explore spiritual growth\, healing\, and inner peace in a welcoming and supportive space. ✨ \nNo experience needed — just an open heart. All are welcome.
URL:https://www.allsoulsuuohio.org/event/a-course-in-miracles-50/
LOCATION:All Souls Fellowship Hall\, 25 Church St\, Bellville\, OH\, 44813\, United States
END:VEVENT
BEGIN:VEVENT
DTSTART;TZID=America/New_York:20260903T190000
DTEND;TZID=America/New_York:20260903T210000
DTSTAMP:20260421T165058
CREATED:20260102T182416Z
LAST-MODIFIED:20260102T182416Z
UID:33158-1788462000-1788469200@www.allsoulsuuohio.org
SUMMARY:Wine with Friends
DESCRIPTION:🍷 Wine with Friends 🍷 \n📅 Thursday\, September 3rd⏰ 7:00 PM📍 Fellowship Hall – All Souls UU Church \nGather with fellow church members — and bring a friend — for an evening of good wine\, meaningful conversation\, and warm community. \nPlease contribute by bringing a bottle of wine to share or a favorite side dish. A suggested donation of $5 is appreciated. \nFor additional details\, feel free to reach out to Carla Miller.
URL:https://www.allsoulsuuohio.org/event/wine-with-friends-46/
LOCATION:All Souls Fellowship Hall\, 25 Church St\, Bellville\, OH\, 44813\, United States
END:VEVENT
BEGIN:VEVENT
DTSTART;TZID=America/New_York:20260916T183000
DTEND;TZID=America/New_York:20260916T200000
DTSTAMP:20260421T165058
CREATED:20260102T175924Z
LAST-MODIFIED:20260102T175924Z
UID:33109-1789583400-1789588800@www.allsoulsuuohio.org
SUMMARY:A Course In Miracles
DESCRIPTION:🌟 A Course in Miracles 🌟 \n📅Wednesday\, September 16th⏰ 6:30 PM📍 Fellowship Hall – All Souls UU Church Basement \nDiscover the transformative teachings of A Course in Miracles in our bi-monthly gathering. Together we explore spiritual growth\, healing\, and inner peace in a welcoming and supportive space. ✨ \nNo experience needed — just an open heart. All are welcome.
URL:https://www.allsoulsuuohio.org/event/a-course-in-miracles-51/
LOCATION:All Souls Fellowship Hall\, 25 Church St\, Bellville\, OH\, 44813\, United States
END:VEVENT
BEGIN:VEVENT
DTSTART;TZID=America/New_York:20260927T090000
DTEND;TZID=America/New_York:20260927T100000
DTSTAMP:20260421T165058
CREATED:20260102T171611Z
LAST-MODIFIED:20260102T171611Z
UID:33044-1790499600-1790503200@www.allsoulsuuohio.org
SUMMARY:Board Meeting
DESCRIPTION:🌿 All Souls Board Meeting 🌿 \n📅 Sunday\, September 27\, 2026⏰ 9:00 AM📍 All Souls Unitarian Universalist Church \nJoin us for the upcoming All Souls Board Meeting as we gather to discuss important church matters and plans for the future. All board members are encouraged to attend. \nIf you have items to add to the agenda\, please submit them to Secretary Joan Richmond prior to the meeting. \nThank you for your continued dedication to our All Souls community.
URL:https://www.allsoulsuuohio.org/event/board-meeting-70/
LOCATION:All Souls Fellowship Hall\, 25 Church St\, Bellville\, OH\, 44813\, United States
END:VEVENT
BEGIN:VEVENT
DTSTART;TZID=America/New_York:20260927T120000
DTEND;TZID=America/New_York:20260927T140000
DTSTAMP:20260421T165058
CREATED:20260102T170820Z
LAST-MODIFIED:20260102T170820Z
UID:33023-1790510400-1790517600@www.allsoulsuuohio.org
SUMMARY:Potluck
DESCRIPTION:🌟 Community Potluck 🌟 \n📅 Sunday\, September 27th⏰ After the Service📍 Fellowship Hall – All Souls UU Church \nJoin us for a delicious and heartwarming potluck meal! This is a wonderful opportunity to share your favorite dishes\, enjoy great company\, and connect with our All Souls community. 🥗🍞💛 \nBring your appetite\, your favorite dish\, and your joyful spirit — we can’t wait to see you there! \nLet’s celebrate fellowship together. All are welcome!
URL:https://www.allsoulsuuohio.org/event/potluck-55/
LOCATION:All Souls Fellowship Hall\, 25 Church St\, Bellville\, OH\, 44813\, United States
END:VEVENT
BEGIN:VEVENT
DTSTART;TZID=America/New_York:20260930T100000
DTEND;TZID=America/New_York:20260930T113000
DTSTAMP:20260421T165058
CREATED:20260102T173319Z
LAST-MODIFIED:20260102T173319Z
UID:33068-1790762400-1790767800@www.allsoulsuuohio.org
SUMMARY:Questions For Your Answers
DESCRIPTION:☕ Religious Exploration – Questions For Your Answers☕ \n📅 Wednesday\, September 30th⏰ 10:00 AM📍 Bob Evans — Hanley Road\, Mansfield \nCome and be part of our monthly gathering as we share conversation\, connection\, and thoughtful discussion. This is a welcoming space to talk about life\, faith\, and any topics close to your heart. \nAll are welcome — we’d love to see you there.
URL:https://www.allsoulsuuohio.org/event/questions-for-your-answers-77/
LOCATION:Bob Evans @ Hanley Rd.\, 30 W. Hanley Rd.\, Mansfield\, OH\, 44903\, United States
END:VEVENT
BEGIN:VEVENT
DTSTART;TZID=America/New_York:20261001T190000
DTEND;TZID=America/New_York:20261001T210000
DTSTAMP:20260421T165058
CREATED:20260102T182512Z
LAST-MODIFIED:20260102T182512Z
UID:33160-1790881200-1790888400@www.allsoulsuuohio.org
SUMMARY:Wine with Friends
DESCRIPTION:🍷 Wine with Friends 🍷 \n📅 Thursday\, October 1st⏰ 7:00 PM📍 Fellowship Hall – All Souls UU Church \nGather with fellow church members — and bring a friend — for an evening of good wine\, meaningful conversation\, and warm community. \nPlease contribute by bringing a bottle of wine to share or a favorite side dish. A suggested donation of $5 is appreciated. \nFor additional details\, feel free to reach out to Carla Miller.
URL:https://www.allsoulsuuohio.org/event/wine-with-friends-47/
LOCATION:All Souls Fellowship Hall\, 25 Church St\, Bellville\, OH\, 44813\, United States
END:VEVENT
BEGIN:VEVENT
DTSTART;TZID=America/New_York:20261007T183000
DTEND;TZID=America/New_York:20261007T200000
DTSTAMP:20260421T165058
CREATED:20260102T180100Z
LAST-MODIFIED:20260102T180100Z
UID:33112-1791397800-1791403200@www.allsoulsuuohio.org
SUMMARY:A Course In Miracles
DESCRIPTION:🌟 A Course in Miracles 🌟 \n📅Wednesday\, October 7th⏰ 6:30 PM📍 Fellowship Hall – All Souls UU Church Basement \nDiscover the transformative teachings of A Course in Miracles in our bi-monthly gathering. Together we explore spiritual growth\, healing\, and inner peace in a welcoming and supportive space. ✨ \nNo experience needed — just an open heart. All are welcome.
URL:https://www.allsoulsuuohio.org/event/a-course-in-miracles-52/
LOCATION:All Souls Fellowship Hall\, 25 Church St\, Bellville\, OH\, 44813\, United States
END:VEVENT
BEGIN:VEVENT
DTSTART;TZID=America/New_York:20261021T183000
DTEND;TZID=America/New_York:20261021T200000
DTSTAMP:20260421T165058
CREATED:20260102T180150Z
LAST-MODIFIED:20260102T180150Z
UID:33114-1792607400-1792612800@www.allsoulsuuohio.org
SUMMARY:A Course In Miracles
DESCRIPTION:🌟 A Course in Miracles 🌟 \n📅Wednesday\, October 21st⏰ 6:30 PM📍 Fellowship Hall – All Souls UU Church Basement \nDiscover the transformative teachings of A Course in Miracles in our bi-monthly gathering. Together we explore spiritual growth\, healing\, and inner peace in a welcoming and supportive space. ✨ \nNo experience needed — just an open heart. All are welcome.
URL:https://www.allsoulsuuohio.org/event/a-course-in-miracles-53/
LOCATION:All Souls Fellowship Hall\, 25 Church St\, Bellville\, OH\, 44813\, United States
END:VEVENT
BEGIN:VEVENT
DTSTART;TZID=America/New_York:20261025T090000
DTEND;TZID=America/New_York:20261025T100000
DTSTAMP:20260421T165058
CREATED:20260102T171650Z
LAST-MODIFIED:20260102T171650Z
UID:33046-1792918800-1792922400@www.allsoulsuuohio.org
SUMMARY:Board Meeting
DESCRIPTION:🌿 All Souls Board Meeting 🌿 \n📅 Sunday\, October 25\, 2026⏰ 9:00 AM📍 All Souls Unitarian Universalist Church \nJoin us for the upcoming All Souls Board Meeting as we gather to discuss important church matters and plans for the future. All board members are encouraged to attend. \nIf you have items to add to the agenda\, please submit them to Secretary Joan Richmond prior to the meeting. \nThank you for your continued dedication to our All Souls community.
URL:https://www.allsoulsuuohio.org/event/board-meeting-71/
LOCATION:All Souls Fellowship Hall\, 25 Church St\, Bellville\, OH\, 44813\, United States
END:VEVENT
BEGIN:VEVENT
DTSTART;TZID=America/New_York:20261025T120000
DTEND;TZID=America/New_York:20261025T140000
DTSTAMP:20260421T165058
CREATED:20260102T170857Z
LAST-MODIFIED:20260102T170857Z
UID:33025-1792929600-1792936800@www.allsoulsuuohio.org
SUMMARY:Potluck
DESCRIPTION:🌟 Community Potluck 🌟 \n📅 Sunday\, October 25th⏰ After the Service📍 Fellowship Hall – All Souls UU Church \nJoin us for a delicious and heartwarming potluck meal! This is a wonderful opportunity to share your favorite dishes\, enjoy great company\, and connect with our All Souls community. 🥗🍞💛 \nBring your appetite\, your favorite dish\, and your joyful spirit — we can’t wait to see you there! \nLet’s celebrate fellowship together. All are welcome!
URL:https://www.allsoulsuuohio.org/event/potluck-56/
LOCATION:All Souls Fellowship Hall\, 25 Church St\, Bellville\, OH\, 44813\, United States
END:VEVENT
BEGIN:VEVENT
DTSTART;TZID=America/New_York:20261028T100000
DTEND;TZID=America/New_York:20261028T113000
DTSTAMP:20260421T165058
CREATED:20260102T173407Z
LAST-MODIFIED:20260102T173407Z
UID:33070-1793181600-1793187000@www.allsoulsuuohio.org
SUMMARY:Questions For Your Answers
DESCRIPTION:☕ Religious Exploration – Questions For Your Answers☕ \n📅 Wednesday\, October 28th⏰ 10:00 AM📍 Bob Evans — Hanley Road\, Mansfield \nCome and be part of our monthly gathering as we share conversation\, connection\, and thoughtful discussion. This is a welcoming space to talk about life\, faith\, and any topics close to your heart. \nAll are welcome — we’d love to see you there.
URL:https://www.allsoulsuuohio.org/event/questions-for-your-answers-78/
LOCATION:Bob Evans @ Hanley Rd.\, 30 W. Hanley Rd.\, Mansfield\, OH\, 44903\, United States
END:VEVENT
BEGIN:VEVENT
DTSTART;TZID=America/New_York:20261104T183000
DTEND;TZID=America/New_York:20261104T200000
DTSTAMP:20260421T165058
CREATED:20260102T180238Z
LAST-MODIFIED:20260102T180238Z
UID:33116-1793817000-1793822400@www.allsoulsuuohio.org
SUMMARY:A Course In Miracles
DESCRIPTION:🌟 A Course in Miracles 🌟 \n📅Wednesday\, November 4th⏰ 6:30 PM📍 Fellowship Hall – All Souls UU Church Basement \nDiscover the transformative teachings of A Course in Miracles in our bi-monthly gathering. Together we explore spiritual growth\, healing\, and inner peace in a welcoming and supportive space. ✨ \nNo experience needed — just an open heart. All are welcome.
URL:https://www.allsoulsuuohio.org/event/a-course-in-miracles-54/
LOCATION:All Souls Fellowship Hall\, 25 Church St\, Bellville\, OH\, 44813\, United States
END:VEVENT
BEGIN:VEVENT
DTSTART;TZID=America/New_York:20261105T190000
DTEND;TZID=America/New_York:20261105T210000
DTSTAMP:20260421T165058
CREATED:20260102T182555Z
LAST-MODIFIED:20260102T182555Z
UID:33162-1793905200-1793912400@www.allsoulsuuohio.org
SUMMARY:Wine with Friends
DESCRIPTION:🍷 Wine with Friends 🍷 \n📅 Thursday\, November 5th⏰ 7:00 PM📍 Fellowship Hall – All Souls UU Church \nGather with fellow church members — and bring a friend — for an evening of good wine\, meaningful conversation\, and warm community. \nPlease contribute by bringing a bottle of wine to share or a favorite side dish. A suggested donation of $5 is appreciated. \nFor additional details\, feel free to reach out to Carla Miller.
URL:https://www.allsoulsuuohio.org/event/wine-with-friends-48/
LOCATION:All Souls Fellowship Hall\, 25 Church St\, Bellville\, OH\, 44813\, United States
END:VEVENT
BEGIN:VEVENT
DTSTART;TZID=America/New_York:20261115T130000
DTEND;TZID=America/New_York:20261115T143000
DTSTAMP:20260421T165058
CREATED:20260119T162947Z
LAST-MODIFIED:20260119T162947Z
UID:33439-1794747600-1794753000@www.allsoulsuuohio.org
SUMMARY:Community Conversations – Class 4: Living the Covenant - Membership & Belonging
DESCRIPTION:Community Conversations \nJoin us for conversation\, reflection\, and connection as we explore Unitarian Universalism and life’s big questions together. These gatherings are informal\, interactive\, and open to all—whether you are new to All Souls or have been part of the community for years. \nCommunity Conversations are not required for membership but are offered in rhythm with our seasonal New Member inductions as a helpful way to learn more about our church and one another. \nCome as you are—curiosity is the only requirement. \nLocation: All Souls UU Church \nFeel free to attend one session or the full series—each conversation stands on its own.
URL:https://www.allsoulsuuohio.org/event/community-conversations-class-4-living-the-covenant-membership-belonging/
LOCATION:All Souls UU Church\, 25 Church St.\, Bellville\, Ohio\, 44813
END:VEVENT
BEGIN:VEVENT
DTSTART;TZID=America/New_York:20261117T180000
DTEND;TZID=America/New_York:20261117T193000
DTSTAMP:20260421T165058
CREATED:20260119T163029Z
LAST-MODIFIED:20260119T163029Z
UID:33441-1794938400-1794943800@www.allsoulsuuohio.org
SUMMARY:Community Conversations – Class 4: Living the Covenant - Membership & Belonging
DESCRIPTION:Community Conversations \nJoin us for conversation\, reflection\, and connection as we explore Unitarian Universalism and life’s big questions together. These gatherings are informal\, interactive\, and open to all—whether you are new to All Souls or have been part of the community for years. \nCommunity Conversations are not required for membership but are offered in rhythm with our seasonal New Member inductions as a helpful way to learn more about our church and one another. \nCome as you are—curiosity is the only requirement. \nLocation: All Souls UU Church \nFeel free to attend one session or the full series—each conversation stands on its own.
URL:https://www.allsoulsuuohio.org/event/community-conversations-class-4-living-the-covenant-membership-belonging-2/
LOCATION:All Souls UU Church\, 25 Church St.\, Bellville\, Ohio\, 44813
END:VEVENT
BEGIN:VEVENT
DTSTART;TZID=America/New_York:20261118T183000
DTEND;TZID=America/New_York:20261118T200000
DTSTAMP:20260421T165058
CREATED:20260102T180320Z
LAST-MODIFIED:20260102T180320Z
UID:33118-1795026600-1795032000@www.allsoulsuuohio.org
SUMMARY:A Course In Miracles
DESCRIPTION:🌟 A Course in Miracles 🌟 \n📅Wednesday\, November 18th⏰ 6:30 PM📍 Fellowship Hall – All Souls UU Church Basement \nDiscover the transformative teachings of A Course in Miracles in our bi-monthly gathering. Together we explore spiritual growth\, healing\, and inner peace in a welcoming and supportive space. ✨ \nNo experience needed — just an open heart. All are welcome.
URL:https://www.allsoulsuuohio.org/event/a-course-in-miracles-55/
LOCATION:All Souls Fellowship Hall\, 25 Church St\, Bellville\, OH\, 44813\, United States
END:VEVENT
BEGIN:VEVENT
DTSTART;TZID=America/New_York:20261125T100000
DTEND;TZID=America/New_York:20261125T113000
DTSTAMP:20260421T165058
CREATED:20260102T173458Z
LAST-MODIFIED:20260102T173458Z
UID:33072-1795600800-1795606200@www.allsoulsuuohio.org
SUMMARY:Questions For Your Answers
DESCRIPTION:☕ Religious Exploration – Questions For Your Answers☕ \n📅 Wednesday\, November 25th⏰ 10:00 AM📍 Bob Evans — Hanley Road\, Mansfield \nCome and be part of our monthly gathering as we share conversation\, connection\, and thoughtful discussion. This is a welcoming space to talk about life\, faith\, and any topics close to your heart. \nAll are welcome — we’d love to see you there.
URL:https://www.allsoulsuuohio.org/event/questions-for-your-answers-79/
LOCATION:Bob Evans @ Hanley Rd.\, 30 W. Hanley Rd.\, Mansfield\, OH\, 44903\, United States
END:VEVENT
BEGIN:VEVENT
DTSTART;TZID=America/New_York:20261129T090000
DTEND;TZID=America/New_York:20261129T100000
DTSTAMP:20260421T165058
CREATED:20260102T171728Z
LAST-MODIFIED:20260102T171728Z
UID:33048-1795942800-1795946400@www.allsoulsuuohio.org
SUMMARY:Board Meeting
DESCRIPTION:🌿 All Souls Board Meeting 🌿 \n📅 Sunday\, November 29\, 2026⏰ 9:00 AM📍 All Souls Unitarian Universalist Church \nJoin us for the upcoming All Souls Board Meeting as we gather to discuss important church matters and plans for the future. All board members are encouraged to attend. \nIf you have items to add to the agenda\, please submit them to Secretary Joan Richmond prior to the meeting. \nThank you for your continued dedication to our All Souls community.
URL:https://www.allsoulsuuohio.org/event/board-meeting-72/
LOCATION:All Souls Fellowship Hall\, 25 Church St\, Bellville\, OH\, 44813\, United States
END:VEVENT
BEGIN:VEVENT
DTSTART;TZID=America/New_York:20261129T120000
DTEND;TZID=America/New_York:20261129T140000
DTSTAMP:20260421T165058
CREATED:20260102T170944Z
LAST-MODIFIED:20260102T170944Z
UID:33027-1795953600-1795960800@www.allsoulsuuohio.org
SUMMARY:Potluck
DESCRIPTION:🌟 Community Potluck 🌟 \n📅 Sunday\, November 29th⏰ After the Service📍 Fellowship Hall – All Souls UU Church \nJoin us for a delicious and heartwarming potluck meal! This is a wonderful opportunity to share your favorite dishes\, enjoy great company\, and connect with our All Souls community. 🥗🍞💛 \nBring your appetite\, your favorite dish\, and your joyful spirit — we can’t wait to see you there! \nLet’s celebrate fellowship together. All are welcome!
URL:https://www.allsoulsuuohio.org/event/potluck-57/
LOCATION:All Souls Fellowship Hall\, 25 Church St\, Bellville\, OH\, 44813\, United States
END:VEVENT
END:VCALENDAR